BEGIN:VCALENDAR
VERSION:2.0
PRODID:-//RC Taube Hannover e.V. - ECPv6.15.20//NONSGML v1.0//EN
CALSCALE:GREGORIAN
METHOD:PUBLISH
X-ORIGINAL-URL:https://rc-taube-hannover.de
X-WR-CALDESC:Veranstaltungen für RC Taube Hannover e.V.
REFRESH-INTERVAL;VALUE=DURATION:PT1H
X-Robots-Tag:noindex
X-PUBLISHED-TTL:PT1H
BEGIN:VTIMEZONE
TZID:Europe/Berlin
BEGIN:DAYLIGHT
TZOFFSETFROM:+0100
TZOFFSETTO:+0200
TZNAME:CEST
DTSTART:20230326T010000
END:DAYLIGHT
BEGIN:STANDARD
TZOFFSETFROM:+0200
TZOFFSETTO:+0100
TZNAME:CET
DTSTART:20231029T010000
END:STANDARD
BEGIN:DAYLIGHT
TZOFFSETFROM:+0100
TZOFFSETTO:+0200
TZNAME:CEST
DTSTART:20240331T010000
END:DAYLIGHT
BEGIN:STANDARD
TZOFFSETFROM:+0200
TZOFFSETTO:+0100
TZNAME:CET
DTSTART:20241027T010000
END:STANDARD
BEGIN:DAYLIGHT
TZOFFSETFROM:+0100
TZOFFSETTO:+0200
TZNAME:CEST
DTSTART:20250330T010000
END:DAYLIGHT
BEGIN:STANDARD
TZOFFSETFROM:+0200
TZOFFSETTO:+0100
TZNAME:CET
DTSTART:20251026T010000
END:STANDARD
END:VTIMEZONE
BEGIN:VTIMEZONE
TZID:UTC
BEGIN:STANDARD
TZOFFSETFROM:+0000
TZOFFSETTO:+0000
TZNAME:UTC
DTSTART:20230101T000000
END:STANDARD
END:VTIMEZONE
BEGIN:VEVENT
DTSTART;TZID=Europe/Berlin:20240601T140000
DTEND;TZID=Europe/Berlin:20240601T190000
DTSTAMP:20260421T211043
CREATED:20231017T041723Z
LAST-MODIFIED:20240523T115511Z
UID:161-1717250400-1717268400@rc-taube-hannover.de
SUMMARY:2. Bundesliga in Hannover ab 14:00 Uhr
DESCRIPTION:
URL:https://rc-taube-hannover.de/event/2-bundesliga-in-hannover/
END:VEVENT
BEGIN:VEVENT
DTSTART;TZID=UTC:20240622T140000
DTEND;TZID=UTC:20240622T190000
DTSTAMP:20260421T211043
CREATED:20231017T041848Z
LAST-MODIFIED:20240523T115608Z
UID:163-1719064800-1719082800@rc-taube-hannover.de
SUMMARY:2. Bundesliga in Sangerhausen ab 14:00 Uhr
DESCRIPTION:
URL:https://rc-taube-hannover.de/event/2-bundesliga-in-sangerhausen/
END:VEVENT
END:VCALENDAR