BEGIN:VCALENDAR
VERSION:2.0
PRODID:-//RC Taube Hannover e.V. - ECPv6.15.20//NONSGML v1.0//EN
CALSCALE:GREGORIAN
METHOD:PUBLISH
X-WR-CALNAME:RC Taube Hannover e.V.
X-ORIGINAL-URL:https://rc-taube-hannover.de
X-WR-CALDESC:Veranstaltungen für RC Taube Hannover e.V.
REFRESH-INTERVAL;VALUE=DURATION:PT1H
X-Robots-Tag:noindex
X-PUBLISHED-TTL:PT1H
BEGIN:VTIMEZONE
TZID:UTC
BEGIN:STANDARD
TZOFFSETFROM:+0000
TZOFFSETTO:+0000
TZNAME:UTC
DTSTART:20230101T000000
END:STANDARD
END:VTIMEZONE
BEGIN:VEVENT
DTSTART;VALUE=DATE:20240120
DTEND;VALUE=DATE:20240121
DTSTAMP:20260419T163400
CREATED:20231017T040917Z
LAST-MODIFIED:20231017T040917Z
UID:153-1705708800-1705795199@rc-taube-hannover.de
SUMMARY:2. Bundesliga in Reideburg
DESCRIPTION:
URL:https://rc-taube-hannover.de/event/2-bundesliga-in-reideburg/
END:VEVENT
END:VCALENDAR